BEGIN:VCALENDAR
VERSION:2.0
PRODID:-//Stykers&#039; Posse - Sistrens In Power - ECPv6.15.20//NONSGML v1.0//EN
CALSCALE:GREGORIAN
METHOD:PUBLISH
X-ORIGINAL-URL:https://strykersposse.org
X-WR-CALDESC:Events for Stykers&#039; Posse - Sistrens In Power
REFRESH-INTERVAL;VALUE=DURATION:PT1H
X-Robots-Tag:noindex
X-PUBLISHED-TTL:PT1H
BEGIN:VTIMEZONE
TZID:America/Denver
BEGIN:DAYLIGHT
TZOFFSETFROM:-0700
TZOFFSETTO:-0600
TZNAME:MDT
DTSTART:20230312T090000
END:DAYLIGHT
BEGIN:STANDARD
TZOFFSETFROM:-0600
TZOFFSETTO:-0700
TZNAME:MST
DTSTART:20231105T080000
END:STANDARD
BEGIN:DAYLIGHT
TZOFFSETFROM:-0700
TZOFFSETTO:-0600
TZNAME:MDT
DTSTART:20240310T090000
END:DAYLIGHT
BEGIN:STANDARD
TZOFFSETFROM:-0600
TZOFFSETTO:-0700
TZNAME:MST
DTSTART:20241103T080000
END:STANDARD
BEGIN:DAYLIGHT
TZOFFSETFROM:-0700
TZOFFSETTO:-0600
TZNAME:MDT
DTSTART:20250309T090000
END:DAYLIGHT
BEGIN:STANDARD
TZOFFSETFROM:-0600
TZOFFSETTO:-0700
TZNAME:MST
DTSTART:20251102T080000
END:STANDARD
END:VTIMEZONE
BEGIN:VEVENT
DTSTART;TZID=America/Denver:20240622T120000
DTEND;TZID=America/Denver:20240622T150000
DTSTAMP:20260421T222742
CREATED:20240220T233818Z
LAST-MODIFIED:20240220T233836Z
UID:602-1719057600-1719068400@strykersposse.org
SUMMARY:CITY SAND '24 - Baltimore
DESCRIPTION:Annual Sand Sculpture Competition
URL:https://strykersposse.org/shows/city-sand-24-baltimore/
LOCATION:Harborplace Amphitheatre\, 201 E. Pratt Street\, Baltimore\, MD\, 21202\, United States
END:VEVENT
BEGIN:VEVENT
DTSTART;TZID=America/Denver:20240622T170000
DTEND;TZID=America/Denver:20240622T173000
DTSTAMP:20260421T222742
CREATED:20240418T204405Z
LAST-MODIFIED:20240418T204405Z
UID:644-1719075600-1719077400@strykersposse.org
SUMMARY:CARIBBEAN CULTURAL FEST - Washington\, DC @ Freedom Plaza
DESCRIPTION:
URL:https://strykersposse.org/shows/caribbean-cultural-fest-washington-dc-freedom-plaza/
LOCATION:Freedom Plaza\, 1325 Pennsylvania Avenue NW\, Washington\, DC\, 20004\, United States
END:VEVENT
END:VCALENDAR