BEGIN:VCALENDAR
VERSION:2.0
PRODID:-//Stykers&#039; Posse - Sistrens In Power - ECPv6.15.20//NONSGML v1.0//EN
CALSCALE:GREGORIAN
METHOD:PUBLISH
X-WR-CALNAME:Stykers&#039; Posse - Sistrens In Power
X-ORIGINAL-URL:https://strykersposse.org
X-WR-CALDESC:Events for Stykers&#039; Posse - Sistrens In Power
REFRESH-INTERVAL;VALUE=DURATION:PT1H
X-Robots-Tag:noindex
X-PUBLISHED-TTL:PT1H
BEGIN:VTIMEZONE
TZID:America/Denver
BEGIN:DAYLIGHT
TZOFFSETFROM:-0700
TZOFFSETTO:-0600
TZNAME:MDT
DTSTART:20240310T090000
END:DAYLIGHT
BEGIN:STANDARD
TZOFFSETFROM:-0600
TZOFFSETTO:-0700
TZNAME:MST
DTSTART:20241103T080000
END:STANDARD
BEGIN:DAYLIGHT
TZOFFSETFROM:-0700
TZOFFSETTO:-0600
TZNAME:MDT
DTSTART:20250309T090000
END:DAYLIGHT
BEGIN:STANDARD
TZOFFSETFROM:-0600
TZOFFSETTO:-0700
TZNAME:MST
DTSTART:20251102T080000
END:STANDARD
BEGIN:DAYLIGHT
TZOFFSETFROM:-0700
TZOFFSETTO:-0600
TZNAME:MDT
DTSTART:20260308T090000
END:DAYLIGHT
BEGIN:STANDARD
TZOFFSETFROM:-0600
TZOFFSETTO:-0700
TZNAME:MST
DTSTART:20261101T080000
END:STANDARD
END:VTIMEZONE
BEGIN:VEVENT
DTSTART;TZID=America/Denver:20250601T130000
DTEND;TZID=America/Denver:20250601T140000
DTSTAMP:20260421T041453
CREATED:20250319T211453Z
LAST-MODIFIED:20250319T211453Z
UID:716-1748782800-1748786400@strykersposse.org
SUMMARY:MIDDLE BRANCH PARK WATERFRONT - Baltimore\, MD
DESCRIPTION:
URL:https://strykersposse.org/shows/middle-branch-park-waterfront-baltimore-md/
LOCATION:Middle Branch Park Waterfront\, 3301 Waterview Ave\, Baltimore\, MD\, 21230\, United States
END:VEVENT
BEGIN:VEVENT
DTSTART;TZID=America/Denver:20250613T180000
DTEND;TZID=America/Denver:20250613T210000
DTSTAMP:20260421T041453
CREATED:20250502T003421Z
LAST-MODIFIED:20250502T003421Z
UID:733-1749837600-1749848400@strykersposse.org
SUMMARY:ROTUNDA ROCKS CONCERT SERIES - Baltimore\, MD
DESCRIPTION:
URL:https://strykersposse.org/shows/rotunda-rocks-concert-series-baltimore-md/
LOCATION:Rotunda\, 711 W 40th St.\, Baltimore\, MD\, 21211\, United States
END:VEVENT
BEGIN:VEVENT
DTSTART;TZID=America/Denver:20250613T180000
DTEND;TZID=America/Denver:20250613T230000
DTSTAMP:20260421T041453
CREATED:20250411T051231Z
LAST-MODIFIED:20250411T051231Z
UID:729-1749837600-1749855600@strykersposse.org
SUMMARY:PRIVATE REGGE PARTY - Baltimore\, MD
DESCRIPTION:
URL:https://strykersposse.org/shows/private-regge-party-baltimore-md/
END:VEVENT
BEGIN:VEVENT
DTSTART;TZID=America/Denver:20250620T180000
DTEND;TZID=America/Denver:20250620T220000
DTSTAMP:20260421T041454
CREATED:20250617T174435Z
LAST-MODIFIED:20250617T174713Z
UID:735-1750442400-1750456800@strykersposse.org
SUMMARY:BALTIMORE REGGAE FAMILY REUNION (w/DJ Redlocks) - Baltimore\, MD
DESCRIPTION:
URL:https://strykersposse.org/shows/baltimore-reggae-family-reunion-w-dj-redlocks-baltimore-md/
LOCATION:Peabody Heights Brewery\, 401 E. 30th St.\, Baltimore\, MD\, 21218\, United States
END:VEVENT
END:VCALENDAR